BEGIN:VCALENDAR
VERSION:2.0
PRODID:-//Clayton Liberty Township Public Library - ECPv6.15.20//NONSGML v1.0//EN
CALSCALE:GREGORIAN
METHOD:PUBLISH
X-WR-CALNAME:Clayton Liberty Township Public Library
X-ORIGINAL-URL:https://clayton.lib.in.us
X-WR-CALDESC:Events for Clayton Liberty Township Public Library
REFRESH-INTERVAL;VALUE=DURATION:PT1H
X-Robots-Tag:noindex
X-PUBLISHED-TTL:PT1H
BEGIN:VTIMEZONE
TZID:UTC
BEGIN:STANDARD
TZOFFSETFROM:+0000
TZOFFSETTO:+0000
TZNAME:UTC
DTSTART:20230101T000000
END:STANDARD
END:VTIMEZONE
BEGIN:VEVENT
DTSTART;TZID=UTC:20240326T130000
DTEND;TZID=UTC:20240326T180000
DTSTAMP:20260421T004747
CREATED:20240411T191158Z
LAST-MODIFIED:20240411T191158Z
UID:1643-1711458000-1711476000@clayton.lib.in.us
SUMMARY:Eclipse T-Shirt Program
DESCRIPTION:
URL:https://clayton.lib.in.us/event/eclipse-t-shirt-program-2/
CATEGORIES:Family Event
ATTACH;FMTTYPE=image/png:https://clayton.lib.in.us/wp-content/uploads/2024/04/tshirt-program.png
END:VEVENT
BEGIN:VEVENT
DTSTART;TZID=UTC:20240326T103000
DTEND;TZID=UTC:20240326T113000
DTSTAMP:20260421T004747
CREATED:20240227T194417Z
LAST-MODIFIED:20240227T194417Z
UID:1616-1711449000-1711452600@clayton.lib.in.us
SUMMARY:Preschool Storytime
DESCRIPTION:
URL:https://clayton.lib.in.us/event/preschool-storytime-104/
CATEGORIES:Preschool Storytime
ATTACH;FMTTYPE=image/png:https://clayton.lib.in.us/wp-content/uploads/2023/02/Colorful-Illustrated-Happy-Children-Book-Day-Instagram-Story-4.png
END:VEVENT
BEGIN:VEVENT
DTSTART;TZID=UTC:20240325T140000
DTEND;TZID=UTC:20240325T180000
DTSTAMP:20260421T004747
CREATED:20240227T194953Z
LAST-MODIFIED:20240227T194953Z
UID:1623-1711375200-1711389600@clayton.lib.in.us
SUMMARY:Merry Making Monday
DESCRIPTION:
URL:https://clayton.lib.in.us/event/merry-making-monday-26/
CATEGORIES:Family Event
ATTACH;FMTTYPE=image/png:https://clayton.lib.in.us/wp-content/uploads/2024/02/March-Merry-Making-Monday.png
END:VEVENT
BEGIN:VEVENT
DTSTART;TZID=UTC:20240325T130000
DTEND;TZID=UTC:20240325T180000
DTSTAMP:20260421T004747
CREATED:20240411T191039Z
LAST-MODIFIED:20240411T191039Z
UID:1641-1711371600-1711389600@clayton.lib.in.us
SUMMARY:Eclipse T-Shirt Program
DESCRIPTION:
URL:https://clayton.lib.in.us/event/eclipse-t-shirt-program/
CATEGORIES:Family Event
ATTACH;FMTTYPE=image/png:https://clayton.lib.in.us/wp-content/uploads/2024/04/tshirt-program.png
END:VEVENT
BEGIN:VEVENT
DTSTART;TZID=UTC:20240319T103000
DTEND;TZID=UTC:20240319T113000
DTSTAMP:20260421T004747
CREATED:20240227T194305Z
LAST-MODIFIED:20240227T194305Z
UID:1615-1710844200-1710847800@clayton.lib.in.us
SUMMARY:Preschool Storytime
DESCRIPTION:
URL:https://clayton.lib.in.us/event/preschool-storytime-103/
CATEGORIES:Preschool Storytime
ATTACH;FMTTYPE=image/png:https://clayton.lib.in.us/wp-content/uploads/2023/02/Colorful-Illustrated-Happy-Children-Book-Day-Instagram-Story-4.png
END:VEVENT
BEGIN:VEVENT
DTSTART;TZID=UTC:20240318T100000
DTEND;TZID=UTC:20240318T140000
DTSTAMP:20260421T004747
CREATED:20240227T194918Z
LAST-MODIFIED:20240227T194918Z
UID:1622-1710756000-1710770400@clayton.lib.in.us
SUMMARY:Merry Making Monday
DESCRIPTION:
URL:https://clayton.lib.in.us/event/merry-making-monday-25/
CATEGORIES:Family Event
ATTACH;FMTTYPE=image/png:https://clayton.lib.in.us/wp-content/uploads/2024/02/March-Merry-Making-Monday.png
END:VEVENT
BEGIN:VEVENT
DTSTART;TZID=UTC:20240318T100000
DTEND;TZID=UTC:20240318T140000
DTSTAMP:20260421T004747
CREATED:20240209T212048Z
LAST-MODIFIED:20240209T212048Z
UID:1592-1710756000-1710770400@clayton.lib.in.us
SUMMARY:Woolkeepers
DESCRIPTION:
URL:https://clayton.lib.in.us/event/woolkeepers-5/
CATEGORIES:Adult Events
ATTACH;FMTTYPE=image/png:https://clayton.lib.in.us/wp-content/uploads/2024/02/March-woolkeepers-club.png
END:VEVENT
BEGIN:VEVENT
DTSTART;TZID=UTC:20240312T103000
DTEND;TZID=UTC:20240312T113000
DTSTAMP:20260421T004747
CREATED:20240227T194222Z
LAST-MODIFIED:20240227T194222Z
UID:1614-1710239400-1710243000@clayton.lib.in.us
SUMMARY:Preschool Storytime
DESCRIPTION:
URL:https://clayton.lib.in.us/event/preschool-storytime-102/
CATEGORIES:Preschool Storytime
ATTACH;FMTTYPE=image/png:https://clayton.lib.in.us/wp-content/uploads/2023/02/Colorful-Illustrated-Happy-Children-Book-Day-Instagram-Story-4.png
END:VEVENT
BEGIN:VEVENT
DTSTART;TZID=UTC:20240311T183000
DTEND;TZID=UTC:20240311T200000
DTSTAMP:20260421T004747
CREATED:20240209T210825Z
LAST-MODIFIED:20240209T210825Z
UID:1578-1710181800-1710187200@clayton.lib.in.us
SUMMARY:Library Board Meeting
DESCRIPTION:
URL:https://clayton.lib.in.us/event/library-board-meeting-8/
CATEGORIES:Board Meeting
ATTACH;FMTTYPE=image/png:https://clayton.lib.in.us/wp-content/uploads/2024/02/March-Board-Meeting-Monday.png
END:VEVENT
BEGIN:VEVENT
DTSTART;TZID=UTC:20240311T140000
DTEND;TZID=UTC:20240311T180000
DTSTAMP:20260421T004747
CREATED:20240227T194839Z
LAST-MODIFIED:20240227T194839Z
UID:1621-1710165600-1710180000@clayton.lib.in.us
SUMMARY:Merry Making Monday
DESCRIPTION:
URL:https://clayton.lib.in.us/event/merry-making-monday-24/
CATEGORIES:Family Event
ATTACH;FMTTYPE=image/png:https://clayton.lib.in.us/wp-content/uploads/2024/02/March-Merry-Making-Monday.png
END:VEVENT
BEGIN:VEVENT
DTSTART;TZID=UTC:20240307T173000
DTEND;TZID=UTC:20240307T183000
DTSTAMP:20260421T004747
CREATED:20240227T195817Z
LAST-MODIFIED:20240227T195817Z
UID:1626-1709832600-1709836200@clayton.lib.in.us
SUMMARY:Eclipse Program
DESCRIPTION:
URL:https://clayton.lib.in.us/event/eclipse-program/
CATEGORIES:Community Event
ATTACH;FMTTYPE=image/png:https://clayton.lib.in.us/wp-content/uploads/2024/02/eclipse-program-presented-by-Dan-mcglaun-1.png
END:VEVENT
BEGIN:VEVENT
DTSTART;TZID=UTC:20240307T160000
DTEND;TZID=UTC:20240307T170000
DTSTAMP:20260421T004747
CREATED:20240227T195215Z
LAST-MODIFIED:20240227T195215Z
UID:1624-1709827200-1709830800@clayton.lib.in.us
SUMMARY:Eclipse Program for Children and Students
DESCRIPTION:
URL:https://clayton.lib.in.us/event/eclipse-program-for-children-and-students/
CATEGORIES:Homeschool Event,Kid Events
ATTACH;FMTTYPE=image/png:https://clayton.lib.in.us/wp-content/uploads/2024/02/eclipse-program-presented-by-Dan-mcglaun-1.png
END:VEVENT
BEGIN:VEVENT
DTSTART;TZID=UTC:20240305T103000
DTEND;TZID=UTC:20240305T113000
DTSTAMP:20260421T004747
CREATED:20240227T194140Z
LAST-MODIFIED:20240227T194140Z
UID:1613-1709634600-1709638200@clayton.lib.in.us
SUMMARY:Preschool Storytime
DESCRIPTION:
URL:https://clayton.lib.in.us/event/preschool-storytime-101/
CATEGORIES:Preschool Storytime
ATTACH;FMTTYPE=image/png:https://clayton.lib.in.us/wp-content/uploads/2023/02/Colorful-Illustrated-Happy-Children-Book-Day-Instagram-Story-4.png
END:VEVENT
BEGIN:VEVENT
DTSTART;TZID=UTC:20240304T140000
DTEND;TZID=UTC:20240304T180000
DTSTAMP:20260421T004747
CREATED:20240227T194806Z
LAST-MODIFIED:20240227T194806Z
UID:1619-1709560800-1709575200@clayton.lib.in.us
SUMMARY:Merry Making Monday
DESCRIPTION:
URL:https://clayton.lib.in.us/event/merry-making-monday-23/
CATEGORIES:Family Event
ATTACH;FMTTYPE=image/png:https://clayton.lib.in.us/wp-content/uploads/2024/02/March-Merry-Making-Monday.png
END:VEVENT
BEGIN:VEVENT
DTSTART;TZID=UTC:20240304T100000
DTEND;TZID=UTC:20240304T140000
DTSTAMP:20260421T004747
CREATED:20240209T211932Z
LAST-MODIFIED:20240209T211932Z
UID:1589-1709546400-1709560800@clayton.lib.in.us
SUMMARY:Woolkeepers
DESCRIPTION:
URL:https://clayton.lib.in.us/event/woolkeepers-4/
CATEGORIES:Adult Events
ATTACH;FMTTYPE=image/png:https://clayton.lib.in.us/wp-content/uploads/2024/02/March-woolkeepers-club.png
END:VEVENT
BEGIN:VEVENT
DTSTART;VALUE=DATE:20240301
DTEND;VALUE=DATE:20240330
DTSTAMP:20260421T004747
CREATED:20240227T194617Z
LAST-MODIFIED:20240227T200323Z
UID:1617-1709251200-1711756799@clayton.lib.in.us
SUMMARY:March\, 2024\, Puzzle Challenge
DESCRIPTION:
URL:https://clayton.lib.in.us/event/march-2024-puzzle-challenge/
CATEGORIES:Family Event
ATTACH;FMTTYPE=image/png:https://clayton.lib.in.us/wp-content/uploads/2024/02/2024-puzzle-challenge.png
END:VEVENT
BEGIN:VEVENT
DTSTART;TZID=UTC:20240227T103000
DTEND;TZID=UTC:20240227T113000
DTSTAMP:20260421T004747
CREATED:20240227T194025Z
LAST-MODIFIED:20240227T194025Z
UID:1612-1709029800-1709033400@clayton.lib.in.us
SUMMARY:Preschool Storytime
DESCRIPTION:
URL:https://clayton.lib.in.us/event/preschool-storytime-100/
CATEGORIES:Preschool Storytime
ATTACH;FMTTYPE=image/png:https://clayton.lib.in.us/wp-content/uploads/2023/02/Colorful-Illustrated-Happy-Children-Book-Day-Instagram-Story-4.png
END:VEVENT
BEGIN:VEVENT
DTSTART;TZID=UTC:20240226T140000
DTEND;TZID=UTC:20240226T180000
DTSTAMP:20260421T004747
CREATED:20240209T212741Z
LAST-MODIFIED:20240209T212741Z
UID:1600-1708956000-1708970400@clayton.lib.in.us
SUMMARY:Merry Making Monday
DESCRIPTION:
URL:https://clayton.lib.in.us/event/merry-making-monday-22/
CATEGORIES:Family Event
ATTACH;FMTTYPE=image/png:https://clayton.lib.in.us/wp-content/uploads/2024/02/1.png
END:VEVENT
BEGIN:VEVENT
DTSTART;TZID=UTC:20240220T103000
DTEND;TZID=UTC:20240220T113000
DTSTAMP:20260421T004747
CREATED:20240227T193920Z
LAST-MODIFIED:20240227T193920Z
UID:1611-1708425000-1708428600@clayton.lib.in.us
SUMMARY:Preschool Storytime
DESCRIPTION:
URL:https://clayton.lib.in.us/event/preschool-storytime-99/
CATEGORIES:Preschool Storytime
ATTACH;FMTTYPE=image/png:https://clayton.lib.in.us/wp-content/uploads/2023/02/Colorful-Illustrated-Happy-Children-Book-Day-Instagram-Story-4.png
END:VEVENT
BEGIN:VEVENT
DTSTART;TZID=UTC:20240219T140000
DTEND;TZID=UTC:20240219T180000
DTSTAMP:20260421T004747
CREATED:20240209T212642Z
LAST-MODIFIED:20240209T212642Z
UID:1599-1708351200-1708365600@clayton.lib.in.us
SUMMARY:Merry Making Monday
DESCRIPTION:
URL:https://clayton.lib.in.us/event/merry-making-monday-21/
CATEGORIES:Family Event
ATTACH;FMTTYPE=image/png:https://clayton.lib.in.us/wp-content/uploads/2024/02/1.png
END:VEVENT
BEGIN:VEVENT
DTSTART;TZID=UTC:20240219T100000
DTEND;TZID=UTC:20240219T140000
DTSTAMP:20260421T004747
CREATED:20240209T212318Z
LAST-MODIFIED:20240209T212318Z
UID:1593-1708336800-1708351200@clayton.lib.in.us
SUMMARY:Woolkeepers
DESCRIPTION:
URL:https://clayton.lib.in.us/event/woolkeepers-6/
CATEGORIES:Adult Events
ATTACH;FMTTYPE=image/png:https://clayton.lib.in.us/wp-content/uploads/2024/02/February-woolkeepers-club-2.png
END:VEVENT
BEGIN:VEVENT
DTSTART;TZID=UTC:20240213T103000
DTEND;TZID=UTC:20240213T113000
DTSTAMP:20260421T004747
CREATED:20240227T193825Z
LAST-MODIFIED:20240227T193825Z
UID:1609-1707820200-1707823800@clayton.lib.in.us
SUMMARY:Preschool Storytime
DESCRIPTION:
URL:https://clayton.lib.in.us/event/preschool-storytime-98/
CATEGORIES:Preschool Storytime
ATTACH;FMTTYPE=image/png:https://clayton.lib.in.us/wp-content/uploads/2023/02/Colorful-Illustrated-Happy-Children-Book-Day-Instagram-Story-4.png
END:VEVENT
BEGIN:VEVENT
DTSTART;TZID=UTC:20240212T183000
DTEND;TZID=UTC:20240212T200000
DTSTAMP:20260421T004747
CREATED:20240209T210352Z
LAST-MODIFIED:20240209T210352Z
UID:1564-1707762600-1707768000@clayton.lib.in.us
SUMMARY:Library Board Meeting
DESCRIPTION:
URL:https://clayton.lib.in.us/event/library-board-meeting-7/
CATEGORIES:Board Meeting
ATTACH;FMTTYPE=image/png:https://clayton.lib.in.us/wp-content/uploads/2024/02/Febrary-Board-Meeting-Monday.png
END:VEVENT
BEGIN:VEVENT
DTSTART;TZID=UTC:20240212T140000
DTEND;TZID=UTC:20240212T180000
DTSTAMP:20260421T004747
CREATED:20240209T212551Z
LAST-MODIFIED:20240209T212551Z
UID:1598-1707746400-1707760800@clayton.lib.in.us
SUMMARY:Merry Making Monday
DESCRIPTION:
URL:https://clayton.lib.in.us/event/merry-making-monday-20/
CATEGORIES:Family Event
ATTACH;FMTTYPE=image/png:https://clayton.lib.in.us/wp-content/uploads/2024/02/1.png
END:VEVENT
BEGIN:VEVENT
DTSTART;TZID=UTC:20240206T103000
DTEND;TZID=UTC:20240206T173000
DTSTAMP:20260421T004747
CREATED:20240227T193721Z
LAST-MODIFIED:20240227T193721Z
UID:1608-1707215400-1707240600@clayton.lib.in.us
SUMMARY:Preschool Storytime
DESCRIPTION:
URL:https://clayton.lib.in.us/event/preschool-storytime-97/
CATEGORIES:Preschool Storytime
ATTACH;FMTTYPE=image/png:https://clayton.lib.in.us/wp-content/uploads/2023/02/Colorful-Illustrated-Happy-Children-Book-Day-Instagram-Story-4.png
END:VEVENT
BEGIN:VEVENT
DTSTART;TZID=UTC:20240205T140000
DTEND;TZID=UTC:20240205T180000
DTSTAMP:20260421T004747
CREATED:20240209T212516Z
LAST-MODIFIED:20240209T212516Z
UID:1595-1707141600-1707156000@clayton.lib.in.us
SUMMARY:Merry Making Monday
DESCRIPTION:
URL:https://clayton.lib.in.us/event/merry-making-monday-19/
CATEGORIES:Family Event
ATTACH;FMTTYPE=image/png:https://clayton.lib.in.us/wp-content/uploads/2024/02/1.png
END:VEVENT
BEGIN:VEVENT
DTSTART;TZID=UTC:20240205T120000
DTEND;TZID=UTC:20240205T180000
DTSTAMP:20260421T004747
CREATED:20231120T195508Z
LAST-MODIFIED:20231120T195508Z
UID:1513-1707134400-1707156000@clayton.lib.in.us
SUMMARY:Red Cross Blood Drive
DESCRIPTION:
URL:https://clayton.lib.in.us/event/red-cross-blood-drive-4/
CATEGORIES:Library Event
ATTACH;FMTTYPE=image/png:https://clayton.lib.in.us/wp-content/uploads/2023/11/Feb-5-2024-Red-Cross-Blood-Drive.png
END:VEVENT
BEGIN:VEVENT
DTSTART;TZID=UTC:20240201T100000
DTEND;TZID=UTC:20240229T190000
DTSTAMP:20260421T004747
CREATED:20240209T212858Z
LAST-MODIFIED:20240209T212858Z
UID:1602-1706781600-1709233200@clayton.lib.in.us
SUMMARY:February Is "I SPY" Month
DESCRIPTION:
URL:https://clayton.lib.in.us/event/february-is-i-spy-month/
CATEGORIES:Family Event
ATTACH;FMTTYPE=image/png:https://clayton.lib.in.us/wp-content/uploads/2024/02/2.png
END:VEVENT
BEGIN:VEVENT
DTSTART;TZID=UTC:20240130T103000
DTEND;TZID=UTC:20240130T113000
DTSTAMP:20260421T004747
CREATED:20240104T192633Z
LAST-MODIFIED:20240104T192633Z
UID:1545-1706610600-1706614200@clayton.lib.in.us
SUMMARY:Preschool Storytime
DESCRIPTION:
URL:https://clayton.lib.in.us/event/preschool-storytime-95/
CATEGORIES:Preschool Storytime
ATTACH;FMTTYPE=image/png:https://clayton.lib.in.us/wp-content/uploads/2023/02/Colorful-Illustrated-Happy-Children-Book-Day-Instagram-Story-4.png
END:VEVENT
BEGIN:VEVENT
DTSTART;TZID=UTC:20240129T143000
DTEND;TZID=UTC:20240129T183000
DTSTAMP:20260421T004747
CREATED:20240104T202849Z
LAST-MODIFIED:20240104T202849Z
UID:1552-1706538600-1706553000@clayton.lib.in.us
SUMMARY:Merry Making Monday
DESCRIPTION:
URL:https://clayton.lib.in.us/event/merry-making-monday-18/
CATEGORIES:Family Event
ATTACH;FMTTYPE=image/png:https://clayton.lib.in.us/wp-content/uploads/2024/01/Merry-Making-Monday-2.png
END:VEVENT
END:VCALENDAR