BEGIN:VCALENDAR
VERSION:2.0
PRODID:-//Clayton Liberty Township Public Library - ECPv6.15.20//NONSGML v1.0//EN
CALSCALE:GREGORIAN
METHOD:PUBLISH
X-ORIGINAL-URL:https://clayton.lib.in.us
X-WR-CALDESC:Events for Clayton Liberty Township Public Library
REFRESH-INTERVAL;VALUE=DURATION:PT1H
X-Robots-Tag:noindex
X-PUBLISHED-TTL:PT1H
BEGIN:VTIMEZONE
TZID:UTC
BEGIN:STANDARD
TZOFFSETFROM:+0000
TZOFFSETTO:+0000
TZNAME:UTC
DTSTART:20250101T000000
END:STANDARD
END:VTIMEZONE
BEGIN:VEVENT
DTSTART;TZID=UTC:20260713T183000
DTEND;TZID=UTC:20260713T200000
DTSTAMP:20260425T111502
CREATED:20251223T173618Z
LAST-MODIFIED:20251223T173618Z
UID:2188-1783967400-1783972800@clayton.lib.in.us
SUMMARY:Library Board Meeting
DESCRIPTION:
URL:https://clayton.lib.in.us/event/library-board-meeting-25/
CATEGORIES:Board Meeting
END:VEVENT
END:VCALENDAR